BEGIN:VCALENDAR
VERSION:2.0
PRODID:-//Ann Montgomery - ECPv4.8.1//NONSGML v1.0//EN
CALSCALE:GREGORIAN
METHOD:PUBLISH
X-WR-CALNAME:Ann Montgomery
X-ORIGINAL-URL:https://annmontgomery.com.au
X-WR-CALDESC:Events for Ann Montgomery
BEGIN:VEVENT
DTSTART;VALUE=DATE:20190803
DTEND;VALUE=DATE:20190805
DTSTAMP:20190228T092248
CREATED:20190216T153057Z
LAST-MODIFIED:20190216T153057Z
UID:5160-1564790400-1564963199@annmontgomery.com.au
SUMMARY:Stoneville RWYM clinic
DESCRIPTION:For more information or to book\, contact the organiser \n
URL:https://annmontgomery.com.au/event/stoneville-rwym-clinic-030819/
LOCATION:Stoneville\, WA\, 3060 Riley Road\, Stoneville\, WA\, 6082\, Australia
CATEGORIES:Regular Clinics
END:VEVENT
END:VCALENDAR