BEGIN:VCALENDAR
VERSION:2.0
PRODID:-//Ann Montgomery - ECPv4.8.1//NONSGML v1.0//EN
CALSCALE:GREGORIAN
METHOD:PUBLISH
X-WR-CALNAME:Ann Montgomery
X-ORIGINAL-URL:https://annmontgomery.com.au
X-WR-CALDESC:Events for Ann Montgomery
BEGIN:VEVENT
DTSTART;VALUE=DATE:20190424
DTEND;VALUE=DATE:20190426
DTSTAMP:20190228T090302
CREATED:20190216T151240Z
LAST-MODIFIED:20190217T131253Z
UID:5146-1556064000-1556236799@annmontgomery.com.au
SUMMARY:Rockhampton Clinic
DESCRIPTION:Clinics accommodate Between 6- 12 Riders depending on the organisers requests and has video feedback of parts of the lessons and/or mini-workshop at lunchtime and then again at the end of the day. \nClinics can be run over one or two days and arranged according to the weather. \nFor more information or to book\, please contact the organiser. \n
URL:https://annmontgomery.com.au/event/rockhampton-clinic-24-0419/
LOCATION:Rockhampton\, Qld\, Capricorn Equestrian Centre 291 Mt. Wheeler Rd\, Cawarral\, Rockhampton\, QLD\, 4700\, Australia
CATEGORIES:Regular Clinics
ORGANIZER;CN="Madeline%20Chery":MAILTO:cctrailrides@bigpond.com
END:VEVENT
END:VCALENDAR