BEGIN:VCALENDAR
VERSION:2.0
PRODID:-//Ann Montgomery - ECPv4.8.1//NONSGML v1.0//EN
CALSCALE:GREGORIAN
METHOD:PUBLISH
X-WR-CALNAME:Ann Montgomery
X-ORIGINAL-URL:https://annmontgomery.com.au
X-WR-CALDESC:Events for Ann Montgomery
BEGIN:VEVENT
DTSTART;TZID=UTC+0:20190204T080000
DTEND;TZID=UTC+0:20190204T170000
DTSTAMP:20190228T085100
CREATED:20181230T224424Z
LAST-MODIFIED:20190129T013350Z
UID:3441-1549267200-1549299600@annmontgomery.com.au
SUMMARY:Murray Riding Club RWYM Clinic
DESCRIPTION:Contact the club directly to book. \n
URL:https://annmontgomery.com.au/event/murray-riding-club-040219-2/
LOCATION:Murray Riding Club\, WA\, Murray Street\, Coolup\, WA\, Australia
CATEGORIES:Guest Instructor
END:VEVENT
END:VCALENDAR