BEGIN:VCALENDAR
VERSION:2.0
PRODID:-//Ann Montgomery - ECPv4.8.1//NONSGML v1.0//EN
CALSCALE:GREGORIAN
METHOD:PUBLISH
X-WR-CALNAME:Ann Montgomery
X-ORIGINAL-URL:https://annmontgomery.com.au
X-WR-CALDESC:Events for Ann Montgomery
BEGIN:VEVENT
DTSTART;VALUE=DATE:20190427
DTEND;VALUE=DATE:20190429
DTSTAMP:20190228T090420
CREATED:20190216T151137Z
LAST-MODIFIED:20190217T131410Z
UID:5147-1556323200-1556495999@annmontgomery.com.au
SUMMARY:Mackay Clinic
DESCRIPTION:Clinics accommodate Between 6- 12 Riders depending on the organisers requests and has video feedback of parts of the lessons and/or mini-workshop at lunchtime and then again at the end of the day. \nClinics can be run over one or two days and arranged according to the weather. \nFor more information or to book\, please contact the organiser. \n
URL:https://annmontgomery.com.au/event/mackay-clinic-270419/
LOCATION:Mackay\, QLD\, 9 Van Moolenbroeks Rd\, Balnagowan\, Qld\, Australia
CATEGORIES:Regular Clinics
ORGANIZER;CN="Anita%20Evers":MAILTO:a_m_evers@hotmail.com
END:VEVENT
END:VCALENDAR