BEGIN:VCALENDAR
VERSION:2.0
PRODID:-//Ann Montgomery - ECPv4.8.1//NONSGML v1.0//EN
CALSCALE:GREGORIAN
METHOD:PUBLISH
X-WR-CALNAME:Ann Montgomery
X-ORIGINAL-URL:https://annmontgomery.com.au
X-WR-CALDESC:Events for Ann Montgomery
BEGIN:VEVENT
DTSTART;VALUE=DATE:20190403
DTEND;VALUE=DATE:20190405
DTSTAMP:20190228T082831
CREATED:20190216T065759Z
LAST-MODIFIED:20190216T141255Z
UID:5100-1554249600-1554422399@annmontgomery.com.au
SUMMARY:Body and Mind Mastery Clinic Albany
DESCRIPTION:Body & Mind Mastery Clinic \nThis is a combined Clinic with Ann Montgomery who teams up with Jennifer Abdelnoor from NZ. BSC (hons) Physiothery\, Certified Polestar Pilates rehab educator\, and so Jennifers work may include depending on the rider’s needs: Body bio-mechanical analysis\, breath awareness techniques\, Muscular assessment and balancing\, Fascial release and integration\, Physiotherapy\, massage/ soft tissue work\, Pilates exercises and repertoires. \nA very unique and special clinic that makes changes to body and mind allowing horse and rider to work harmoniously together. Each clinic will include the following;\n– First day will include your hour long initial ridden assessment with Ann and Jen including off horse bodywork session and biomechanics lesson.\n– Pilates session (day 1 only)\n– Video feedback and discussion to consolidate the changes you were feeling.\n– Second day starts with a Private 45min body and mind session with Jen off horse\, this can include\, (with your permission) changes to internal dialog and limiting beliefs that no longer serve you or is blocking your progress. Followed immediately for your 45min lesson with Ann to maximise the changes in your body and feed back from your horse.\n– Video feedback and discussion to maximise the changes made over the two days. \n
URL:https://annmontgomery.com.au/event/body-and-mind-mastery-clinic-albany-03042019/
LOCATION:Albany\, WA\, Roberts Road\, Albany\, WA\, 6330\, Australia
CATEGORIES:Guest Instructor
ORGANIZER;CN="Sarah%20Williams":MAILTO:tegz1@hotmail.com
END:VEVENT
END:VCALENDAR