BEGIN:VCALENDAR
VERSION:2.0
PRODID:-//Ann Montgomery - ECPv4.8.1//NONSGML v1.0//EN
CALSCALE:GREGORIAN
METHOD:PUBLISH
X-WR-CALNAME:Ann Montgomery
X-ORIGINAL-URL:https://annmontgomery.com.au
X-WR-CALDESC:Events for Ann Montgomery
BEGIN:VEVENT
DTSTART;TZID=UTC+0:20190223T080000
DTEND;TZID=UTC+0:20190223T080000
DTSTAMP:20190228T091437
CREATED:20190108T203153Z
LAST-MODIFIED:20190129T034250Z
UID:3495-1550908800-1550908800@annmontgomery.com.au
SUMMARY:Albany RWYM Clinic
DESCRIPTION:For more information or to book\, contact Sarah Williams. \n
URL:https://annmontgomery.com.au/event/albany-230219/
LOCATION:Albany\, WA\, Roberts Road\, Albany\, WA\, 6330\, Australia
CATEGORIES:Regular Clinics
ORGANIZER;CN="Sarah%20Williams":MAILTO:tegz1@hotmail.com
END:VEVENT
END:VCALENDAR