BEGIN:VCALENDAR
VERSION:2.0
PRODID:-//Ann Montgomery - ECPv4.8.1//NONSGML v1.0//EN
CALSCALE:GREGORIAN
METHOD:PUBLISH
X-WR-CALNAME:Ann Montgomery
X-ORIGINAL-URL:https://annmontgomery.com.au
X-WR-CALDESC:Events for Ann Montgomery
BEGIN:VEVENT
DTSTART;TZID=UTC+0:20190216T080000
DTEND;TZID=UTC+0:20190216T170000
DTSTAMP:20190228T091325
CREATED:20190108T203153Z
LAST-MODIFIED:20190131T053910Z
UID:3483-1550304000-1550336400@annmontgomery.com.au
SUMMARY:Margaret River RWYM Clinic
DESCRIPTION:\nThis event is subject to a ground fee of $5 p/rider\, p/day included in the price.\nUse the discount code SECONDLESSON if you’re booking for two lessons in the same transaction.\n\n
URL:https://annmontgomery.com.au/event/margaret-river-160219/
LOCATION:Margaret River\, WA\, 480 Ellen Brook Road\, Cowaramup\, WA\, 6284\, Australia
CATEGORIES:Regular Clinics
ORGANIZER;CN="Angela%20Carroll":MAILTO:angela.carroll53@gmail.com
END:VEVENT
END:VCALENDAR