BEGIN:VCALENDAR
VERSION:2.0
PRODID:-//Ann Montgomery - ECPv4.8.1//NONSGML v1.0//EN
CALSCALE:GREGORIAN
METHOD:PUBLISH
X-WR-CALNAME:Ann Montgomery
X-ORIGINAL-URL:https://annmontgomery.com.au
X-WR-CALDESC:Events for Ann Montgomery
BEGIN:VEVENT
DTSTART;TZID=UTC+0:20190323T080000
DTEND;TZID=UTC+0:20190323T170000
DTSTAMP:20190228T084656
CREATED:20190108T203153Z
LAST-MODIFIED:20190217T100504Z
UID:3477-1553328000-1553360400@annmontgomery.com.au
SUMMARY:Stoneville RWYM Clinic
DESCRIPTION:Clinics accommodate 9 per day\, in private 45 minute lessons\, with/without video feedback and/or mini-workshop after every few riders or at lunchtime and then again at the end of the day. \nClinics can be structured to enable riders to leave shortly after their lesson or stay for the day to watch other lessons and participate in the video feedback/ mini-workshop. Clinics can be run over one or two days and arranged according to the weather. \nFor more information or to book\, contact Kellie Draper \n
URL:https://annmontgomery.com.au/event/stoneville-230319/
LOCATION:Stoneville\, WA\, 3060 Riley Road\, Stoneville\, WA\, 6082\, Australia
CATEGORIES:Regular Clinics
ORGANIZER;CN="Kellie%20Draper":MAILTO:kellied@thesrggroup.com.au
END:VEVENT
END:VCALENDAR