BEGIN:VCALENDAR
VERSION:2.0
PRODID:-//Ann Montgomery - ECPv4.8.1//NONSGML v1.0//EN
CALSCALE:GREGORIAN
METHOD:PUBLISH
X-WR-CALNAME:Ann Montgomery
X-ORIGINAL-URL:https://annmontgomery.com.au
X-WR-CALDESC:Events for Ann Montgomery
BEGIN:VEVENT
DTSTART;VALUE=DATE:20190317
DTEND;VALUE=DATE:20190318
DTSTAMP:20190228T084613
CREATED:20190108T203153Z
LAST-MODIFIED:20190217T051028Z
UID:3472-1552780800-1552867199@annmontgomery.com.au
SUMMARY:Harvey RWYM Clinic
DESCRIPTION:Book Online or contact the organiser for more information \nUse the discount code SECONDLESSON if you’re booking for two lessons in the same transaction. \n
URL:https://annmontgomery.com.au/event/harvey-170319/
LOCATION:Harvey\, WA\, 153\, 9th Road\, Harvey\, WA\, 6220\, Australia
CATEGORIES:Regular Clinics
ORGANIZER;CN="Sharon%20Addison":MAILTO:rosebrookpark@bigpond.com
END:VEVENT
END:VCALENDAR