BEGIN:VCALENDAR
VERSION:2.0
PRODID:-//Ann Montgomery - ECPv4.8.1//NONSGML v1.0//EN
CALSCALE:GREGORIAN
METHOD:PUBLISH
X-WR-CALNAME:Ann Montgomery
X-ORIGINAL-URL:https://annmontgomery.com.au
X-WR-CALDESC:Events for Ann Montgomery
BEGIN:VEVENT
DTSTART;TZID=UTC+0:20190315T120000
DTEND;TZID=UTC+0:20190316T180000
DTSTAMP:20190228T084548
CREATED:20190108T200237Z
LAST-MODIFIED:20190217T095259Z
UID:3463-1552651200-1552759200@annmontgomery.com.au
SUMMARY:Oakford RWYM Clinic
DESCRIPTION:Clinics accommodate 9 per day\, in private 45 minute lessons\, with/without video feedback and/or mini-workshop after every few riders or at lunchtime and then again at the end of the day. \nClinics can be structured to enable riders to leave shortly after their lesson or stay for the day to watch other lessons and participate in the video feedback/ mini-workshop. Clinics can be run over one or two days and arranged according to the weather. \nBook Online or contact the organiser for more information \nUse the discount code SECONDLESSON if you’re booking for two lessons in the same transaction. \n
URL:https://annmontgomery.com.au/event/oakford-150319/
LOCATION:Oakford\, WA\, 53 Peters Way\, Oakford\, WA\, 6121\, Australia
CATEGORIES:Regular Clinics
ORGANIZER;CN="Rebecca%20Morgan":MAILTO:xr8au2@bigpond.com.au
END:VEVENT
END:VCALENDAR