BEGIN:VCALENDAR
VERSION:2.0
PRODID:-//Ann Montgomery - ECPv4.8.1//NONSGML v1.0//EN
CALSCALE:GREGORIAN
METHOD:PUBLISH
X-WR-CALNAME:Ann Montgomery
X-ORIGINAL-URL:https://annmontgomery.com.au
X-WR-CALDESC:Events for Ann Montgomery
BEGIN:VEVENT
DTSTART;TZID=UTC+0:20190304T080000
DTEND;TZID=UTC+0:20190304T170000
DTSTAMP:20190228T084414
CREATED:20181230T224424Z
LAST-MODIFIED:20190217T133637Z
UID:3501-1551686400-1551718800@annmontgomery.com.au
SUMMARY:Murray Riding Club RWYM Lessons
DESCRIPTION:Lessons in pairs only with no video component. \nContact the club directly to book. \n
URL:https://annmontgomery.com.au/event/murray-riding-club-040319/
LOCATION:Murray Riding Club\, WA\, Murray Street\, Coolup\, WA\, Australia
END:VEVENT
END:VCALENDAR